BEGIN:VCALENDAR
VERSION:2.0
PRODID:-//wp-events-plugin.com//7.2.3.1//EN
TZID:Europe/Berlin
X-WR-TIMEZONE:Europe/Berlin
BEGIN:VEVENT
UID:60@hoerer-helfen-kindern.de
DTSTART;TZID=Europe/Berlin:20191109T130000
DTEND;TZID=Europe/Berlin:20191109T200000
DTSTAMP:20210106T123328Z
URL:https://www.hoerer-helfen-kindern.de/aktionen/9-hoerer-helfen-kindern-
 fussball-cup/
SUMMARY:9. Hörer helfen Kindern Fußball-Cup
DESCRIPTION:Zum 9. Mal kicken 12 Herren-Mannschaften aus Norddeutschland am
  9.11. in der Sporthalle Nahe um den "Hörer helfen Kindern Fußball Cup".
   Die Anmeldung ist noch möglich.
ATTACH;FMTTYPE=image/jpeg:https://www.hoerer-helfen-kindern.de/wp-content/
 uploads/2019/09/Artikelbild-9.-Radio-Hamburg-Fußballcup-für-Hörer-helfe
 n-Kindern.jpg
LOCATION:Sporthalle Nahe\, Segeberger Straße 90\, Nahe\, 23866\, Deutschla
 nd
GEO:53.78781;10.13501999999994
X-APPLE-STRUCTURED-LOCATION;VALUE=URI;X-ADDRESS=Segeberger Straße 90\, Nah
 e\, 23866\, Deutschland;X-APPLE-RADIUS=100;X-TITLE=Sporthalle Nahe:geo:53.
 78781,10.13501999999994
END:VEVENT
BEGIN:VTIMEZONE
TZID:Europe/Berlin
X-LIC-LOCATION:Europe/Berlin
BEGIN:STANDARD
DTSTART:20191027T020000
TZOFFSETFROM:+0200
TZOFFSETTO:+0100
TZNAME:CET
END:STANDARD
END:VTIMEZONE
END:VCALENDAR