BEGIN:VCALENDAR
VERSION:2.0
PRODID:-//wp-events-plugin.com//7.2.3.1//EN
TZID:Europe/Berlin
X-WR-TIMEZONE:Europe/Berlin
BEGIN:VEVENT
UID:179@hoerer-helfen-kindern.de
DTSTART;TZID=Europe/Berlin:20220601T100000
DTEND;TZID=Europe/Berlin:20220601T180000
DTSTAMP:20220530T133444Z
URL:https://www.hoerer-helfen-kindern.de/aktionen/altonaer-kinderfest/
SUMMARY:Hörer helfen Kindern auf dem Kinderfest im Mercado Altona
DESCRIPTION:Am Mittwoch (01.06.) steigt von 10 bis 18 Uhr im Mercado das er
 ste Altonaer Kinderfest mit einem bunten Programm für Groß und Klein. Di
 e Spendeneinnahmen kommen dabei unserer Charity Hörer helfen Kindern e.V.
  zu Gute.
ATTACH;FMTTYPE=image/jpeg:https://www.hoerer-helfen-kindern.de/wp-content/
 uploads/2022/05/Introbild-Hoerer-helfen-Kindern-auf-dem-Altonaer-Kinderfes
 t.jpg
LOCATION:Mercado Altona\, Ottenser Hauptstraße 10\, Hamburg\, Hamburg\, 22
 765\, Deutschland
GEO:53.552681;9.931988
X-APPLE-STRUCTURED-LOCATION;VALUE=URI;X-ADDRESS=Ottenser Hauptstraße 10\, 
 Hamburg\, Hamburg\, 22765\, Deutschland;X-APPLE-RADIUS=100;X-TITLE=Mercado
  Altona:geo:53.552681,9.931988
END:VEVENT
BEGIN:VTIMEZONE
TZID:Europe/Berlin
X-LIC-LOCATION:Europe/Berlin
BEGIN:DAYLIGHT
DTSTART:20220327T030000
TZOFFSETFROM:+0100
TZOFFSETTO:+0200
TZNAME:CEST
END:DAYLIGHT
END:VTIMEZONE
END:VCALENDAR