BEGIN:VCALENDAR
VERSION:2.0
PRODID:-//wp-events-plugin.com//7.2.3.1//EN
TZID:Europe/Berlin
X-WR-TIMEZONE:Europe/Berlin
BEGIN:VEVENT
UID:118@hoerer-helfen-kindern.de
DTSTART;TZID=Europe/Berlin;VALUE=DATE:20200101
DTEND;TZID=Europe/Berlin;VALUE=DATE:20201225
DTSTAMP:20210106T123248Z
URL:https://www.hoerer-helfen-kindern.de/aktionen/eventcater-hagen-lindema
 nn/
SUMMARY:EventCater's kulinarische Spendensammlung
DESCRIPTION:Für EventCater ist es eine Herzenssache\, das Wichtigste nicht
  aus den Augen zu verlieren. Nämlich den Menschen und Kindern zu helfen\,
  die es nicht so leicht haben. Seit Anfang des Jahres motivieren sie alle 
 Kunden und Geschäftspartner für Hörer Helfen Kindern zu spenden\, und h
 aben bereites eine gute Summe zusammen bekommen. 
ATTACH;FMTTYPE=image/jpeg:https://www.hoerer-helfen-kindern.de/wp-content/
 uploads/2020/11/Spendenaktion-von-EventCater-fuer-Hoerer-helfen-Kindern.jp
 g
LOCATION:Hagen\, Lindemann GbR (EventCater)\, Fabriciusstraße 123\, Hambur
 g\, Hamburg\, 22177\, Deutschland
GEO:53.60415;10.0646
X-APPLE-STRUCTURED-LOCATION;VALUE=URI;X-ADDRESS=Fabriciusstraße 123\, Hamb
 urg\, Hamburg\, 22177\, Deutschland;X-APPLE-RADIUS=100;X-TITLE=Hagen\, Lin
 demann GbR (EventCater):geo:53.60415,10.0646
END:VEVENT
BEGIN:VTIMEZONE
TZID:Europe/Berlin
X-LIC-LOCATION:Europe/Berlin
BEGIN:STANDARD
DTSTART:20191027T020000
TZOFFSETFROM:+0200
TZOFFSETTO:+0100
TZNAME:CET
END:STANDARD
BEGIN:DAYLIGHT
DTSTART:20200329T030000
TZOFFSETFROM:+0100
TZOFFSETTO:+0200
TZNAME:CEST
END:DAYLIGHT
BEGIN:STANDARD
DTSTART:20201025T020000
TZOFFSETFROM:+0200
TZOFFSETTO:+0100
TZNAME:CET
END:STANDARD
END:VTIMEZONE
END:VCALENDAR