BEGIN:VCALENDAR
VERSION:2.0
PRODID:-//wp-events-plugin.com//7.2.3.1//EN
TZID:Europe/Berlin
X-WR-TIMEZONE:Europe/Berlin
BEGIN:VEVENT
UID:165@hoerer-helfen-kindern.de
DTSTART;TZID=Europe/Berlin;VALUE=DATE:20211119
DTEND;TZID=Europe/Berlin;VALUE=DATE:20211220
DTSTAMP:20211203T161612Z
URL:https://www.hoerer-helfen-kindern.de/aktionen/knuspermuehlen-braaker-m
 uehle/
SUMMARY:Knuspermühlen-Tombola bei der Braaker Mühle
DESCRIPTION:Für nur 2 Euro bekommt ihr ein Los und mit etwas Glück gewinn
 t ihr eine der 25 Knuspermühlen! Damit tut ihr nicht nur eurem Weihnachts
 fest einen Gefallen\, sondern auch Kindern und Jugendlichen in Not. Viel G
 lück!
ATTACH;FMTTYPE=image/jpeg:https://www.hoerer-helfen-kindern.de/wp-content/
 uploads/2021/11/Spendenaktion-der-Braaker-Muehle-fuer-Hoerer-helfen-Kinder
 n.jpg
LOCATION:Braaker Mühle - Mühlenladen Braak\, Braaker Mühle 7\, Braak\, S
 chleswig-Holstein\, 22145\, Deutschland
GEO:53.601361;10.245271
X-APPLE-STRUCTURED-LOCATION;VALUE=URI;X-ADDRESS=Braaker Mühle 7\, Braak\, 
 Schleswig-Holstein\, 22145\, Deutschland;X-APPLE-RADIUS=100;X-TITLE=Braake
 r Mühle - Mühlenladen Braak:geo:53.601361,10.245271
END:VEVENT
BEGIN:VTIMEZONE
TZID:Europe/Berlin
X-LIC-LOCATION:Europe/Berlin
BEGIN:STANDARD
DTSTART:20211031T020000
TZOFFSETFROM:+0200
TZOFFSETTO:+0100
TZNAME:CET
END:STANDARD
END:VTIMEZONE
END:VCALENDAR