BEGIN:VCALENDAR
VERSION:2.0
PRODID:-//wp-events-plugin.com//7.2.3.1//EN
TZID:Europe/Berlin
X-WR-TIMEZONE:Europe/Berlin
BEGIN:VEVENT
UID:105@hoerer-helfen-kindern.de
DTSTART;TZID=Europe/Berlin;VALUE=DATE:20191206
DTEND;TZID=Europe/Berlin;VALUE=DATE:20191223
DTSTAMP:20210106T123253Z
URL:https://www.hoerer-helfen-kindern.de/aktionen/moji-sushi-spendenaktion
 /
SUMMARY:Bei Moji Sushi Delivery: Sushi schlemmen und Gutes tun
DESCRIPTION:Bestellt ihr bei Moji Sushi Delivery in Alsterdorf bis zum 22. 
 Dezember das "Hörer helfen Kindern"-Menü spart ihr nicht nur Geld\, sond
 ern tut auch noch Gutes für Kinder in Not. Guten Appetit!
ATTACH;FMTTYPE=image/jpeg:https://www.hoerer-helfen-kindern.de/wp-content/
 uploads/2019/12/Spendenaktion-bei-moji-Sushi-für-Hörer-helfen-Kindern.jp
 g
LOCATION:Moji Sushi\, Alsterdorfer Strasse 263\, Hamburg\, Hamburg\, 22297\
 , Deutschland
GEO:53.607988;10.006419
X-APPLE-STRUCTURED-LOCATION;VALUE=URI;X-ADDRESS=Alsterdorfer Strasse 263\, 
 Hamburg\, Hamburg\, 22297\, Deutschland;X-APPLE-RADIUS=100;X-TITLE=Moji Su
 shi:geo:53.607988,10.006419
END:VEVENT
BEGIN:VTIMEZONE
TZID:Europe/Berlin
X-LIC-LOCATION:Europe/Berlin
BEGIN:STANDARD
DTSTART:20191027T020000
TZOFFSETFROM:+0200
TZOFFSETTO:+0100
TZNAME:CET
END:STANDARD
END:VTIMEZONE
END:VCALENDAR