BEGIN:VCALENDAR
VERSION:2.0
PRODID:-//wp-events-plugin.com//7.2.3.1//EN
TZID:Europe/Berlin
X-WR-TIMEZONE:Europe/Berlin
BEGIN:VEVENT
UID:171@hoerer-helfen-kindern.de
DTSTART;TZID=Europe/Berlin;VALUE=DATE:20211201
DTEND;TZID=Europe/Berlin;VALUE=DATE:20211225
DTSTAMP:20211209T151013Z
URL:https://www.hoerer-helfen-kindern.de/aktionen/spendenaktion-underdocks
 /
SUMMARY:Spendenaktion bei den "underDOCK's"
DESCRIPTION:In insgesamt 15 Geschäften der Unternehmensgemeinschaft "under
 DOCK's" in Blankenese\, könnt ihr ab sofort an den Spendendosen spenden. 
 Kommt vorbei und lasst euch von diesem Viertel begeistern.
ATTACH;FMTTYPE=image/jpeg:https://www.hoerer-helfen-kindern.de/wp-content/
 uploads/2021/12/Spendenaktion-von-underDOCKs-fuer-Hoerer-helfen-Kindern.jp
 g
END:VEVENT
BEGIN:VTIMEZONE
TZID:Europe/Berlin
X-LIC-LOCATION:Europe/Berlin
BEGIN:STANDARD
DTSTART:20211031T020000
TZOFFSETFROM:+0200
TZOFFSETTO:+0100
TZNAME:CET
END:STANDARD
END:VTIMEZONE
END:VCALENDAR