BEGIN:VCALENDAR
VERSION:2.0
PRODID:-//wp-events-plugin.com//7.2.3.1//EN
TZID:Europe/Berlin
X-WR-TIMEZONE:Europe/Berlin
BEGIN:VEVENT
UID:24@hoerer-helfen-kindern.de
DTSTART;TZID=Europe/Berlin:20181201T090000
DTEND;TZID=Europe/Berlin:20181222T190000
DTSTAMP:20210106T123404Z
URL:https://www.hoerer-helfen-kindern.de/aktionen/tannenbaumverkauf-boden-
 macht-boden/
SUMMARY:Tannenbaumverkauf Boden macht Boden
DESCRIPTION:Vor dem Geschäft Boden macht Boden findet im Zeitraum vom 30.1
 1.18 bis zum 22.12.18 ein Tannenbaumverkauf statt.
ATTACH;FMTTYPE=image/jpeg:https://www.hoerer-helfen-kindern.de/wp-content/
 uploads/2018/11/Tannenbaum.jpg
END:VEVENT
BEGIN:VTIMEZONE
TZID:Europe/Berlin
X-LIC-LOCATION:Europe/Berlin
BEGIN:STANDARD
DTSTART:20181028T020000
TZOFFSETFROM:+0200
TZOFFSETTO:+0100
TZNAME:CET
END:STANDARD
END:VTIMEZONE
END:VCALENDAR