BEGIN:VCALENDAR
VERSION:2.0
PRODID:-//wp-events-plugin.com//7.2.3.1//EN
TZID:Europe/Berlin
X-WR-TIMEZONE:Europe/Berlin
BEGIN:VEVENT
UID:217@hoerer-helfen-kindern.de
DTSTART;TZID=Europe/Berlin:20230402T130000
DTEND;TZID=Europe/Berlin:20230402T180000
DTSTAMP:20230319T112617Z
URL:https://www.hoerer-helfen-kindern.de/aktionen/verkaufsoffener-sonntag-
 2023-obi-harburg/
SUMMARY:Sportlich in den Frühling: Verkaufsoffener Sonntag bei OBI Harburg
DESCRIPTION:Das Team von OBI Harburg unterstützt auch 2023 wieder Hörer h
 elfen Kindern mit vielen tollen Aktionen. Los geht es am 2. April beim ver
 kaufsoffenen Sonntag.
ATTACH;FMTTYPE=image/jpeg:https://www.hoerer-helfen-kindern.de/wp-content/
 uploads/2023/02/Artikelbild-Spendenaktion-von-OBI-Harburg-im-April-2023-fu
 er-Hoerer-helfen-Kindern.jpg
LOCATION:OBI-Markt in Harburg\, Großmoordamm 98\, Hamburg\, Hamburg\, 2107
 9\, Hamburg\, Deutschland
GEO:53.453442;10.002083
X-APPLE-STRUCTURED-LOCATION;VALUE=URI;X-ADDRESS=Großmoordamm 98\, Hamburg\
 , Hamburg\, 21079\, Hamburg\, Deutschland;X-APPLE-RADIUS=100;X-TITLE=OBI-M
 arkt in Harburg:geo:53.453442,10.002083
END:VEVENT
BEGIN:VTIMEZONE
TZID:Europe/Berlin
X-LIC-LOCATION:Europe/Berlin
BEGIN:DAYLIGHT
DTSTART:20230326T030000
TZOFFSETFROM:+0100
TZOFFSETTO:+0200
TZNAME:CEST
END:DAYLIGHT
END:VTIMEZONE
END:VCALENDAR