BEGIN:VCALENDAR
VERSION:2.0
PRODID:-//wp-events-plugin.com//7.2.3.1//EN
TZID:Europe/Berlin
X-WR-TIMEZONE:Europe/Berlin
BEGIN:VEVENT
UID:223@hoerer-helfen-kindern.de
DTSTART;TZID=Europe/Berlin;VALUE=DATE:20231022
DTEND;TZID=Europe/Berlin;VALUE=DATE:20231225
DTSTAMP:20231022T084840Z
URL:https://www.hoerer-helfen-kindern.de/aktionen/weihnachtskarten-daniell
 e-ferrier/
SUMMARY:Holt euch einzigartige Weihnachtskarten und tut damit etwas Gutes
DESCRIPTION:Holt euch die tollen Weihnachtskarten von Grafikerin und Design
 erin Danielle Ferrier für einen ganz besonderen und persönlichen Weihnac
 htsgruß. Nebenbei helft ihr damit auch noch Kindern und Jugendlichen in N
 ot.
ATTACH;FMTTYPE=image/jpeg:https://www.hoerer-helfen-kindern.de/wp-content/
 uploads/2023/10/Introbild-Weihnachtskartenaktion-von-Danielle-Ferrier-fuer
 -Hoerer-helfen-Kindern.jpg
END:VEVENT
BEGIN:VTIMEZONE
TZID:Europe/Berlin
X-LIC-LOCATION:Europe/Berlin
BEGIN:DAYLIGHT
DTSTART:20230326T030000
TZOFFSETFROM:+0100
TZOFFSETTO:+0200
TZNAME:CEST
END:DAYLIGHT
BEGIN:STANDARD
DTSTART:20231029T020000
TZOFFSETFROM:+0200
TZOFFSETTO:+0100
TZNAME:CET
END:STANDARD
END:VTIMEZONE
END:VCALENDAR