BEGIN:VCALENDAR
VERSION:2.0
PRODID:-//wp-events-plugin.com//7.2.3.1//EN
TZID:Europe/Berlin
X-WR-TIMEZONE:Europe/Berlin
BEGIN:VEVENT
UID:196@hoerer-helfen-kindern.de
DTSTART;TZID=Europe/Berlin:20221125T100000
DTEND;TZID=Europe/Berlin:20221126T180000
DTSTAMP:20221112T091559Z
URL:https://www.hoerer-helfen-kindern.de/aktionen/weihnachtstombola-unique
 -concept-cosmetics/
SUMMARY:Weihnachtstombola bei Unique Concept Cosmetics
DESCRIPTION:Beim Kosmetikstudio Unique Concept Cosmetics in Lokstedt könnt
  ihr am 25. & 26. November bei einer Tombola für Hörer helfen Kindern sp
 enden. Jedes Los kostet dabei zwei Euro.
ATTACH;FMTTYPE=image/jpeg:https://www.hoerer-helfen-kindern.de/wp-content/
 uploads/2022/11/Introbild-Spendenaktion-von-Unique-Concept-Cosmetics-fuer-
 Hoerer-helfen-Kindern.jpg
LOCATION:Unique Concept Cosmetics\, Lokstedter Steindamm 2\, Hamburg\, Hamb
 urg\, 22529\, Deutschland
GEO:53.59888;9.96436
X-APPLE-STRUCTURED-LOCATION;VALUE=URI;X-ADDRESS=Lokstedter Steindamm 2\, Ha
 mburg\, Hamburg\, 22529\, Deutschland;X-APPLE-RADIUS=100;X-TITLE=Unique Co
 ncept Cosmetics:geo:53.59888,9.96436
END:VEVENT
BEGIN:VTIMEZONE
TZID:Europe/Berlin
X-LIC-LOCATION:Europe/Berlin
BEGIN:STANDARD
DTSTART:20221030T020000
TZOFFSETFROM:+0200
TZOFFSETTO:+0100
TZNAME:CET
END:STANDARD
END:VTIMEZONE
END:VCALENDAR